BEGIN:VCALENDAR
VERSION:2.0
PRODID:-//TAFEP - Tuna Académica da Faculdade de Economia do Porto - ECPv6.11.2.1//NONSGML v1.0//EN
CALSCALE:GREGORIAN
METHOD:PUBLISH
X-WR-CALNAME:TAFEP - Tuna Académica da Faculdade de Economia do Porto
X-ORIGINAL-URL:https://tafep.pt
X-WR-CALDESC:Events for TAFEP - Tuna Académica da Faculdade de Economia do Porto
REFRESH-INTERVAL;VALUE=DURATION:PT1H
X-Robots-Tag:noindex
X-PUBLISHED-TTL:PT1H
BEGIN:VTIMEZONE
TZID:UTC
BEGIN:STANDARD
TZOFFSETFROM:+0000
TZOFFSETTO:+0000
TZNAME:UTC
DTSTART:20230101T000000
END:STANDARD
END:VTIMEZONE
BEGIN:VEVENT
DTSTART;TZID=UTC:20230324T150000
DTEND;TZID=UTC:20230326T230000
DTSTAMP:20260421T120724
CREATED:20230223T164350Z
LAST-MODIFIED:20230224T092431Z
UID:9855-1679670000-1679871600@tafep.pt
SUMMARY:TAFEP XXX
DESCRIPTION:
URL:https://tafep.pt/evento/tafep-xxx/
LOCATION:Coliseu do Porto e FEP\, Porto\, Portugal
END:VEVENT
BEGIN:VEVENT
DTSTART;TZID=UTC:20230310T190000
DTEND;TZID=UTC:20230311T235500
DTSTAMP:20260421T120724
CREATED:20230224T093146Z
LAST-MODIFIED:20230224T093146Z
UID:9883-1678474800-1678578900@tafep.pt
SUMMARY:XXIII FITUP
DESCRIPTION:
URL:https://tafep.pt/evento/xxiii-fitup/
LOCATION:Universidade Portucalense\, R. de São Tomé 712\, 4200-486 Porto\, Portugal\, Porto
END:VEVENT
BEGIN:VEVENT
DTSTART;TZID=UTC:20230227T220000
DTEND;TZID=UTC:20230227T235500
DTSTAMP:20260421T120724
CREATED:20230224T093434Z
LAST-MODIFIED:20230224T093434Z
UID:9889-1677535200-1677542100@tafep.pt
SUMMARY:Vozes da FEP
DESCRIPTION:
URL:https://tafep.pt/evento/vozes-da-fep/
LOCATION:Faculdade de Economia do Porto\,  Rua Dr. Roberto Frias\, Porto
END:VEVENT
END:VCALENDAR